BEGIN:VCALENDAR
VERSION:2.0
PRODID:-//Nepali Calendar//EN
BEGIN:VEVENT
UID:9e3cc692c5c0ddff55ee62fa66c507c6@nepalicalendar.com
DTSTAMP:20260421T090018Z
DTSTART;VALUE=DATE:20260501
DTEND;VALUE=DATE:20260502
SUMMARY:अन्तर्राष्ट्रिय श्रमिक दिवस
DESCRIPTION:अन्तर्राष्ट्रिय श्रमिक दिवस
END:VEVENT
END:VCALENDAR