BEGIN:VCALENDAR
VERSION:2.0
PRODID:-//Nepali Calendar//EN
BEGIN:VEVENT
UID:e5a3a544e8dcc2dc4e252c4726df3398@nepalicalendar.com
DTSTAMP:20260421T083931Z
DTSTART;VALUE=DATE:20260501
DTEND;VALUE=DATE:20260502
SUMMARY:वैसाख स्नान समाप्ति
DESCRIPTION:वैसाख स्नान समाप्ति
END:VEVENT
END:VCALENDAR