BEGIN:VCALENDAR
VERSION:2.0
PRODID:-//Nepali Calendar//EN
BEGIN:VEVENT
UID:e16d6a77cc419b6ce28d3d497aa39a9a@nepalicalendar.com
DTSTAMP:20260421T085253Z
DTSTART;VALUE=DATE:20260501
DTEND;VALUE=DATE:20260502
SUMMARY:कुर्म जयन्ती
DESCRIPTION:कुर्म जयन्ती
END:VEVENT
END:VCALENDAR