BEGIN:VCALENDAR
VERSION:2.0
PRODID:-//Nepali Calendar//EN
BEGIN:VEVENT
UID:8379e57d3d2ec783d0d3c3e1ff268cb4@nepalicalendar.com
DTSTAMP:20260422T023605Z
DTSTART;VALUE=DATE:20250503
DTEND;VALUE=DATE:20250504
SUMMARY:विश्व प्रेस स्वतन्त्रता दिवस
DESCRIPTION:विश्व प्रेस स्वतन्त्रता दिवस
END:VEVENT
END:VCALENDAR