BEGIN:VCALENDAR
VERSION:2.0
PRODID:-//Nepali Calendar//EN
BEGIN:VEVENT
UID:fe624347926e77dc7b2573398737dc1f@nepalicalendar.com
DTSTAMP:20260422T023448Z
DTSTART;VALUE=DATE:20250502
DTEND;VALUE=DATE:20250503
SUMMARY:रामानुजाचार्य जयन्ती
DESCRIPTION:रामानुजाचार्य जयन्ती
END:VEVENT
END:VCALENDAR