BEGIN:VCALENDAR
VERSION:2.0
PRODID:-//Nepali Calendar//EN
BEGIN:VEVENT
UID:f3527baf612f423ba39a6a757974c02c@nepalicalendar.com
DTSTAMP:20260422T023738Z
DTSTART;VALUE=DATE:20250502
DTEND;VALUE=DATE:20250503
SUMMARY:आद्यगुरु शंकराचार्य जयन्ती
DESCRIPTION:आद्यगुरु शंकराचार्य जयन्ती
END:VEVENT
END:VCALENDAR