BEGIN:VCALENDAR
VERSION:2.0
PRODID:-//Nepali Calendar//EN
BEGIN:VEVENT
UID:8c43f104b0554397842e962fce545300@nepalicalendar.com
DTSTAMP:20260422T023238Z
DTSTART;VALUE=DATE:20250501
DTEND;VALUE=DATE:20250502
SUMMARY:बुंगद्यः (रातो मच्छिन्द्रनाथ) रथ यात्रा प्रारम्भ
DESCRIPTION:बुंगद्यः (रातो मच्छिन्द्रनाथ) रथ यात्रा प्रारम्भ
END:VEVENT
END:VCALENDAR