BEGIN:VCALENDAR
VERSION:2.0
PRODID:-//Nepali Calendar//EN
BEGIN:VEVENT
UID:6d600c87fc615ced615acfb46efbadd4@nepalicalendar.com
DTSTAMP:20260421T101714Z
DTSTART;VALUE=DATE:20260306
DTEND;VALUE=DATE:20260307
SUMMARY:चुनाव बिदा २०८२
DESCRIPTION:चुनाव बिदा २०८२
END:VEVENT
END:VCALENDAR