BEGIN:VCALENDAR
VERSION:2.0
PRODID:-//Nepali Calendar//EN
BEGIN:VEVENT
UID:c665cce5a304f21c0faee642ed1e4c3b@nepalicalendar.com
DTSTAMP:20260421T101653Z
DTSTART;VALUE=DATE:20260305
DTEND;VALUE=DATE:20260306
SUMMARY:प्रतिनिधिसभा निर्वाचन २०८२
DESCRIPTION:प्रतिनिधिसभा निर्वाचन २०८२
END:VEVENT
END:VCALENDAR