BEGIN:VCALENDAR
VERSION:2.0
PRODID:-//Nepali Calendar//EN
BEGIN:VEVENT
UID:db029fb5ef2d8dd61b85c0c24b73bef7@nepalicalendar.com
DTSTAMP:20260421T101350Z
DTSTART;VALUE=DATE:20260304
DTEND;VALUE=DATE:20260305
SUMMARY:चुनाव बिदा २०८२
DESCRIPTION:चुनाव बिदा २०८२
END:VEVENT
END:VCALENDAR