BEGIN:VCALENDAR
VERSION:2.0
PRODID:-//Nepali Calendar//EN
BEGIN:VEVENT
UID:e606e630c0ff1c84a512c802bfe98f8f@nepalicalendar.com
DTSTAMP:20260421T144900Z
DTSTART;VALUE=DATE:20260101
DTEND;VALUE=DATE:20260102
SUMMARY:राष्ट्रिय पोशाक दिवस
DESCRIPTION:राष्ट्रिय पोशाक दिवस
END:VEVENT
END:VCALENDAR