BEGIN:VCALENDAR
VERSION:2.0
PRODID:-//Nepali Calendar//EN
BEGIN:VEVENT
UID:dcddf2580dfd9ffc0f55bbf563c978c6@nepalicalendar.com
DTSTAMP:20260421T163412Z
DTSTART;VALUE=DATE:20251204
DTEND;VALUE=DATE:20251205
SUMMARY:उँधौली पर्व
DESCRIPTION:उँधौली पर्व
END:VEVENT
END:VCALENDAR