BEGIN:VCALENDAR
VERSION:2.0
PRODID:-//Nepali Calendar//EN
BEGIN:VEVENT
UID:9ee7591f33c74142771571b5ef20d97b@nepalicalendar.com
DTSTAMP:20260421T163419Z
DTSTART;VALUE=DATE:20251201
DTEND;VALUE=DATE:20251202
SUMMARY:मोक्षदा एकादशी व्रत
DESCRIPTION:मोक्षदा एकादशी व्रत
END:VEVENT
END:VCALENDAR