BEGIN:VCALENDAR
VERSION:2.0
PRODID:-//Nepali Calendar//EN
BEGIN:VEVENT
UID:8fafeba39659f24e37f0b6ccc2a95b18@nepalicalendar.com
DTSTAMP:20260421T145235Z
DTSTART;VALUE=DATE:20251119
DTEND;VALUE=DATE:20251120
SUMMARY:अन्तर्राष्ट्रिय पुरुष दिवस
DESCRIPTION:अन्तर्राष्ट्रिय पुरुष दिवस
END:VEVENT
END:VCALENDAR