BEGIN:VCALENDAR
VERSION:2.0
PRODID:-//Nepali Calendar//EN
BEGIN:VEVENT
UID:c298ae8514c5870575db8ecee6d2c955@nepalicalendar.com
DTSTAMP:20260422T023526Z
DTSTART;VALUE=DATE:20250501
DTEND;VALUE=DATE:20250502
SUMMARY:अन्तर्राष्ट्रिय श्रमिक दिवस
DESCRIPTION:अन्तर्राष्ट्रिय श्रमिक दिवस
END:VEVENT
END:VCALENDAR