BEGIN:VCALENDAR
VERSION:2.0
PRODID:-//Nepali Calendar//EN
BEGIN:VEVENT
UID:d027abb7a994c2bc550b55e3f6f87aad@nepalicalendar.com
DTSTAMP:20260421T085009Z
DTSTART;VALUE=DATE:20260402
DTEND;VALUE=DATE:20260403
SUMMARY:विश्व अटिजम जागरुकता दिवस
DESCRIPTION:विश्व अटिजम जागरुकता दिवस
END:VEVENT
END:VCALENDAR