BEGIN:VCALENDAR
VERSION:2.0
PRODID:-//Nepali Calendar//EN
BEGIN:VEVENT
UID:28bf41974378259390956eddf5ec3cf8@nepalicalendar.com
DTSTAMP:20260421T090220Z
DTSTART;VALUE=DATE:20260402
DTEND;VALUE=DATE:20260403
SUMMARY:बैसाख स्नान प्रारम्भ
DESCRIPTION:बैसाख स्नान प्रारम्भ
END:VEVENT
END:VCALENDAR