BEGIN:VCALENDAR
VERSION:2.0
PRODID:-//Nepali Calendar//EN
BEGIN:VEVENT
UID:2685f695388c1f24af57488a4e78e294@nepalicalendar.com
DTSTAMP:20260421T084601Z
DTSTART;VALUE=DATE:20260401
DTEND;VALUE=DATE:20260402
SUMMARY:विश्व मूर्ख दिवस
DESCRIPTION:विश्व मूर्ख दिवस
END:VEVENT
END:VCALENDAR