BEGIN:VCALENDAR
VERSION:2.0
PRODID:-//Nepali Calendar//EN
BEGIN:VEVENT
UID:ed86bcb2b2a10f19d826f4133cd7cdde@nepalicalendar.com
DTSTAMP:20260421T083920Z
DTSTART;VALUE=DATE:20260331
DTEND;VALUE=DATE:20260401
SUMMARY:महावीर जयन्ती
DESCRIPTION:महावीर जयन्ती
END:VEVENT
END:VCALENDAR