BEGIN:VCALENDAR
VERSION:2.0
PRODID:-//Nepali Calendar//EN
BEGIN:VEVENT
UID:0993919bccaedea87657e28e0ba3ef80@nepalicalendar.com
DTSTAMP:20260422T023226Z
DTSTART;VALUE=DATE:20250430
DTEND;VALUE=DATE:20250501
SUMMARY:शिव पार्वती विवाह महोत्सव
DESCRIPTION:शिव पार्वती विवाह महोत्सव
END:VEVENT
END:VCALENDAR