BEGIN:VCALENDAR
VERSION:2.0
PRODID:-//Nepali Calendar//EN
BEGIN:VEVENT
UID:cd1b7430824275e4b95d949491cf50e5@nepalicalendar.com
DTSTAMP:20260422T023104Z
DTSTART;VALUE=DATE:20250430
DTEND;VALUE=DATE:20250501
SUMMARY:अक्षय तृतीया
DESCRIPTION:अक्षय तृतीया
END:VEVENT
END:VCALENDAR