BEGIN:VCALENDAR
VERSION:2.0
PRODID:-//Nepali Calendar//EN
BEGIN:VEVENT
UID:ed48360ea77a74c6c88dd3b4785ef8f7@nepalicalendar.com
DTSTAMP:20260421T090722Z
DTSTART;VALUE=DATE:20260319
DTEND;VALUE=DATE:20260320
SUMMARY:तेल लगाउने र नीमको पात खाने दिन
DESCRIPTION:तेल लगाउने र नीमको पात खाने दिन
END:VEVENT
END:VCALENDAR