BEGIN:VCALENDAR
VERSION:2.0
PRODID:-//Nepali Calendar//EN
BEGIN:VEVENT
UID:1643db5d6ab30bfd4cf2cd1b971e5bef@nepalicalendar.com
DTSTAMP:20260421T083647Z
DTSTART;VALUE=DATE:20260318
DTEND;VALUE=DATE:20260319
SUMMARY:घोडेजात्रा (काठमाडौँ उपत्यकालाई बिदा)
DESCRIPTION:घोडेजात्रा (काठमाडौँ उपत्यकालाई बिदा)
END:VEVENT
END:VCALENDAR