BEGIN:VCALENDAR
VERSION:2.0
PRODID:-//Nepali Calendar//EN
BEGIN:VEVENT
UID:44c2dbcf7daefac7b617169a53bd6bfd@nepalicalendar.com
DTSTAMP:20260422T023135Z
DTSTART;VALUE=DATE:20250429
DTEND;VALUE=DATE:20250430
SUMMARY:अन्तर्राष्ट्रिय नृत्य दिवस
DESCRIPTION:अन्तर्राष्ट्रिय नृत्य दिवस
END:VEVENT
END:VCALENDAR