BEGIN:VCALENDAR
VERSION:2.0
PRODID:-//Nepali Calendar//EN
BEGIN:VEVENT
UID:5a172c8cbf8509e20ec45fcb6866ee01@nepalicalendar.com
DTSTAMP:20260421T101750Z
DTSTART;VALUE=DATE:20260308
DTEND;VALUE=DATE:20260309
SUMMARY:नारी दिवस
DESCRIPTION:नारी दिवस
END:VEVENT
END:VCALENDAR