BEGIN:VCALENDAR
VERSION:2.0
PRODID:-//Nepali Calendar//EN
BEGIN:VEVENT
UID:1a77963705a2d0a017b9bcfa4b44cdf1@nepalicalendar.com
DTSTAMP:20260421T101912Z
DTSTART;VALUE=DATE:20260304
DTEND;VALUE=DATE:20260305
SUMMARY:तेल लगाउने र आँपको मुजुरा खाने दिन
DESCRIPTION:तेल लगाउने र आँपको मुजुरा खाने दिन
END:VEVENT
END:VCALENDAR