BEGIN:VCALENDAR
VERSION:2.0
PRODID:-//Nepali Calendar//EN
BEGIN:VEVENT
UID:c3125ed01df0f2ea55894190d9b2fd35@nepalicalendar.com
DTSTAMP:20260421T101813Z
DTSTART;VALUE=DATE:20260303
DTEND;VALUE=DATE:20260304
SUMMARY:विश्व वन्यजन्तु दिवस
DESCRIPTION:विश्व वन्यजन्तु दिवस
END:VEVENT
END:VCALENDAR