BEGIN:VCALENDAR
VERSION:2.0
PRODID:-//Nepali Calendar//EN
BEGIN:VEVENT
UID:b8c2588339027fcf60459d4fbedf03d9@nepalicalendar.com
DTSTAMP:20260421T101824Z
DTSTART;VALUE=DATE:20260303
DTEND;VALUE=DATE:20260304
SUMMARY:खण्डग्रास चन्द्र ग्रहण
DESCRIPTION:खण्डग्रास चन्द्र ग्रहण
END:VEVENT
END:VCALENDAR