BEGIN:VCALENDAR
VERSION:2.0
PRODID:-//Nepali Calendar//EN
BEGIN:VEVENT
UID:8d09bba7731f323206c23b7d0a823beb@nepalicalendar.com
DTSTAMP:20260421T101848Z
DTSTART;VALUE=DATE:20260303
DTEND;VALUE=DATE:20260304
SUMMARY:फागु पुर्णिमा (तराइ होली)
DESCRIPTION:फागु पुर्णिमा (तराइ होली)
END:VEVENT
END:VCALENDAR