BEGIN:VCALENDAR
VERSION:2.0
PRODID:-//Nepali Calendar//EN
BEGIN:VEVENT
UID:326e097d4951c233809ca487783d5113@nepalicalendar.com
DTSTAMP:20260421T101445Z
DTSTART;VALUE=DATE:20260302
DTEND;VALUE=DATE:20260303
SUMMARY:Poornima Vrata
DESCRIPTION:Poornima Vrata
END:VEVENT
END:VCALENDAR