BEGIN:VCALENDAR
VERSION:2.0
PRODID:-//Nepali Calendar//EN
BEGIN:VEVENT
UID:6993e8804b9d48b0bba9c92994092cbf@nepalicalendar.com
DTSTAMP:20260421T101445Z
DTSTART;VALUE=DATE:20260302
DTEND;VALUE=DATE:20260303
SUMMARY:पूर्णिमा व्रत
DESCRIPTION:पूर्णिमा व्रत
END:VEVENT
END:VCALENDAR