BEGIN:VCALENDAR
VERSION:2.0
PRODID:-//Nepali Calendar//EN
BEGIN:VEVENT
UID:19893312eb75b1cc741a28ca8eeb2ce2@nepalicalendar.com
DTSTAMP:20260422T023330Z
DTSTART;VALUE=DATE:20250429
DTEND;VALUE=DATE:20250430
SUMMARY:परशुराम जयन्ती
DESCRIPTION:परशुराम जयन्ती
END:VEVENT
END:VCALENDAR