BEGIN:VCALENDAR
VERSION:2.0
PRODID:-//Nepali Calendar//EN
BEGIN:VEVENT
UID:51705ff944aab2bf9bd7f4d0eece5bfa@nepalicalendar.com
DTSTAMP:20260421T101530Z
DTSTART;VALUE=DATE:20260302
DTEND;VALUE=DATE:20260303
SUMMARY:फागु पुर्णिमा (पहाडी जिल्ला)
DESCRIPTION:फागु पुर्णिमा (पहाडी जिल्ला)
END:VEVENT
END:VCALENDAR