BEGIN:VCALENDAR
VERSION:2.0
PRODID:-//Nepali Calendar//EN
BEGIN:VEVENT
UID:7c0200184e1cb83946b3e2d5f1a3ee0b@nepalicalendar.com
DTSTAMP:20260421T101514Z
DTSTART;VALUE=DATE:20260301
DTEND;VALUE=DATE:20260302
SUMMARY:शून्य भेदभाव दिवस
DESCRIPTION:शून्य भेदभाव दिवस
END:VEVENT
END:VCALENDAR