BEGIN:VCALENDAR
VERSION:2.0
PRODID:-//Nepali Calendar//EN
BEGIN:VEVENT
UID:3529e09019ee71c21749d82988d1bea6@nepalicalendar.com
DTSTAMP:20260421T101606Z
DTSTART;VALUE=DATE:20260227
DTEND;VALUE=DATE:20260228
SUMMARY:विश्व गैरसरकारी संस्था दिवस
DESCRIPTION:विश्व गैरसरकारी संस्था दिवस
END:VEVENT
END:VCALENDAR