BEGIN:VCALENDAR
VERSION:2.0
PRODID:-//Nepali Calendar//EN
BEGIN:VEVENT
UID:c5b063640325b9e246d2df7fdc5e9e1b@nepalicalendar.com
DTSTAMP:20260421T101653Z
DTSTART;VALUE=DATE:20260227
DTEND;VALUE=DATE:20260228
SUMMARY:आमलकी एकादशी व्रत
DESCRIPTION:आमलकी एकादशी व्रत
END:VEVENT
END:VCALENDAR