BEGIN:VCALENDAR
VERSION:2.0
PRODID:-//Nepali Calendar//EN
BEGIN:VEVENT
UID:9cb780a618d226d200ced766d6b18bf7@nepalicalendar.com
DTSTAMP:20260421T101458Z
DTSTART;VALUE=DATE:20260224
DTEND;VALUE=DATE:20260225
SUMMARY:भौमाष्टमी व्रत
DESCRIPTION:भौमाष्टमी व्रत
END:VEVENT
END:VCALENDAR