BEGIN:VCALENDAR
VERSION:2.0
PRODID:-//Nepali Calendar//EN
BEGIN:VEVENT
UID:4eaa08d85da39bdc22b991dea88d69e7@nepalicalendar.com
DTSTAMP:20260421T101340Z
DTSTART;VALUE=DATE:20260221
DTEND;VALUE=DATE:20260222
SUMMARY:अन्तर्राष्ट्रिय मातृभाषा दिवस
DESCRIPTION:अन्तर्राष्ट्रिय मातृभाषा दिवस
END:VEVENT
END:VCALENDAR