BEGIN:VCALENDAR
VERSION:2.0
PRODID:-//Nepali Calendar//EN
BEGIN:VEVENT
UID:68f5b389c69c2e5645a4aa6b9e47860c@nepalicalendar.com
DTSTAMP:20260421T101530Z
DTSTART;VALUE=DATE:20260220
DTEND;VALUE=DATE:20260221
SUMMARY:सामाजिक न्याय दिवस
DESCRIPTION:सामाजिक न्याय दिवस
END:VEVENT
END:VCALENDAR