BEGIN:VCALENDAR
VERSION:2.0
PRODID:-//Nepali Calendar//EN
BEGIN:VEVENT
UID:82c292d0e5309a2adbdd87ef2384cd84@nepalicalendar.com
DTSTAMP:20260421T101605Z
DTSTART;VALUE=DATE:20260219
DTEND;VALUE=DATE:20260220
SUMMARY:निर्वाचन दिवस
DESCRIPTION:निर्वाचन दिवस
END:VEVENT
END:VCALENDAR