BEGIN:VCALENDAR
VERSION:2.0
PRODID:-//Nepali Calendar//EN
BEGIN:VEVENT
UID:65b87bd2f5704de0d6c2a24f0a54c246@nepalicalendar.com
DTSTAMP:20260422T023226Z
DTSTART;VALUE=DATE:20250428
DTEND;VALUE=DATE:20250429
SUMMARY:काममा सुरक्षा र स्वास्थ्यको लागि विश्व दिवस
DESCRIPTION:काममा सुरक्षा र स्वास्थ्यको लागि विश्व दिवस
END:VEVENT
END:VCALENDAR