BEGIN:VCALENDAR
VERSION:2.0
PRODID:-//Nepali Calendar//EN
BEGIN:VEVENT
UID:5c7d71a01fc06b0cd8ba6a112d4fd40e@nepalicalendar.com
DTSTAMP:20260422T005813Z
DTSTART;VALUE=DATE:20250517
DTEND;VALUE=DATE:20250518
SUMMARY:विश्व उच्च रक्तचाप दिवस
DESCRIPTION:विश्व उच्च रक्तचाप दिवस
END:VEVENT
END:VCALENDAR