BEGIN:VCALENDAR
VERSION:2.0
PRODID:-//Nepali Calendar//EN
BEGIN:VEVENT
UID:38c6f64726d7db974a0ebcb0cef13f63@nepalicalendar.com
DTSTAMP:20260421T101514Z
DTSTART;VALUE=DATE:20260219
DTEND;VALUE=DATE:20260220
SUMMARY:प्रजातन्त्र दिवस
DESCRIPTION:प्रजातन्त्र दिवस
END:VEVENT
END:VCALENDAR