BEGIN:VCALENDAR
VERSION:2.0
PRODID:-//Nepali Calendar//EN
BEGIN:VEVENT
UID:bd37ee0c38f18ffe75c836fad1eb0fc8@nepalicalendar.com
DTSTAMP:20260421T101813Z
DTSTART;VALUE=DATE:20260218
DTEND;VALUE=DATE:20260219
SUMMARY:ग्याल्पो ल्होछार
DESCRIPTION:ग्याल्पो ल्होछार
END:VEVENT
END:VCALENDAR