BEGIN:VCALENDAR
VERSION:2.0
PRODID:-//Nepali Calendar//EN
BEGIN:VEVENT
UID:d1f76e740b4717271ba48ee1ef92728e@nepalicalendar.com
DTSTAMP:20260421T101714Z
DTSTART;VALUE=DATE:20260215
DTEND;VALUE=DATE:20260216
SUMMARY:सिलाचःह्रे पूजा
DESCRIPTION:सिलाचःह्रे पूजा
END:VEVENT
END:VCALENDAR