BEGIN:VCALENDAR
VERSION:2.0
PRODID:-//Nepali Calendar//EN
BEGIN:VEVENT
UID:12b788058bab716173235eea21afd442@nepalicalendar.com
DTSTAMP:20260421T101350Z
DTSTART;VALUE=DATE:20260215
DTEND;VALUE=DATE:20260216
SUMMARY:नेपाली सेना दिवस
DESCRIPTION:नेपाली सेना दिवस
END:VEVENT
END:VCALENDAR