BEGIN:VCALENDAR
VERSION:2.0
PRODID:-//Nepali Calendar//EN
BEGIN:VEVENT
UID:64659746b229ec03e5296a92d93cd039@nepalicalendar.com
DTSTAMP:20260421T101824Z
DTSTART;VALUE=DATE:20260215
DTEND;VALUE=DATE:20260216
SUMMARY:महा शिवरात्री
DESCRIPTION:महा शिवरात्री
END:VEVENT
END:VCALENDAR