BEGIN:VCALENDAR
VERSION:2.0
PRODID:-//Nepali Calendar//EN
BEGIN:VEVENT
UID:222319df7b8ba81dc2c0e293c9268aa4@nepalicalendar.com
DTSTAMP:20260421T101457Z
DTSTART;VALUE=DATE:20260214
DTEND;VALUE=DATE:20260215
SUMMARY:प्रणय दिवस
DESCRIPTION:प्रणय दिवस
END:VEVENT
END:VCALENDAR