BEGIN:VCALENDAR
VERSION:2.0
PRODID:-//Nepali Calendar//EN
BEGIN:VEVENT
UID:3b02c98f62ecfb5265df8cf8dfccf1e9@nepalicalendar.com
DTSTAMP:20260421T101340Z
DTSTART;VALUE=DATE:20260214
DTEND;VALUE=DATE:20260215
SUMMARY:शनि प्रदोष व्रत
DESCRIPTION:शनि प्रदोष व्रत
END:VEVENT
END:VCALENDAR