BEGIN:VCALENDAR
VERSION:2.0
PRODID:-//Nepali Calendar//EN
BEGIN:VEVENT
UID:d6408778701b4aabaa9022f45d6d82a0@nepalicalendar.com
DTSTAMP:20260421T101412Z
DTSTART;VALUE=DATE:20260213
DTEND;VALUE=DATE:20260214
SUMMARY:विश्व रेडियो दिवस
DESCRIPTION:विश्व रेडियो दिवस
END:VEVENT
END:VCALENDAR